BEGIN:VCALENDAR
VERSION:2.0
PRODID:-//IAAP Summit 2026 - ECPv6.15.12.2//NONSGML v1.0//EN
CALSCALE:GREGORIAN
METHOD:PUBLISH
X-ORIGINAL-URL:https://iaap-summit.org
X-WR-CALDESC:Events for IAAP Summit 2026
REFRESH-INTERVAL;VALUE=DURATION:PT1H
X-Robots-Tag:noindex
X-PUBLISHED-TTL:PT1H
BEGIN:VTIMEZONE
TZID:America/Vancouver
BEGIN:DAYLIGHT
TZOFFSETFROM:-0800
TZOFFSETTO:-0700
TZNAME:PDT
DTSTART:20250309T100000
END:DAYLIGHT
BEGIN:STANDARD
TZOFFSETFROM:-0700
TZOFFSETTO:-0800
TZNAME:PST
DTSTART:20251102T090000
END:STANDARD
BEGIN:DAYLIGHT
TZOFFSETFROM:-0800
TZOFFSETTO:-0700
TZNAME:PDT
DTSTART:20260308T100000
END:DAYLIGHT
BEGIN:STANDARD
TZOFFSETFROM:-0700
TZOFFSETTO:-0800
TZNAME:PST
DTSTART:20261101T090000
END:STANDARD
BEGIN:DAYLIGHT
TZOFFSETFROM:-0800
TZOFFSETTO:-0700
TZNAME:PDT
DTSTART:20270314T100000
END:DAYLIGHT
BEGIN:STANDARD
TZOFFSETFROM:-0700
TZOFFSETTO:-0800
TZNAME:PST
DTSTART:20271107T090000
END:STANDARD
END:VTIMEZONE
BEGIN:VEVENT
DTSTART;TZID=America/Vancouver:20260728T110000
DTEND;TZID=America/Vancouver:20260728T114500
DTSTAMP:20260421T050544
CREATED:20250906T194112Z
LAST-MODIFIED:20260401T033350Z
UID:10000007-1785236400-1785239100@iaap-summit.org
SUMMARY:Community Conversation: Shaping Our Profession's Future Together
DESCRIPTION:Join leaders from IAAP and IAAP Foundation for an energizing conversation about our shared vision for the administrative profession—where your voice matters\, your questions drive the dialogue\, and your involvement shapes the future we’re building together. \n  \nThis is your opportunity to be part of the conversation that’s redefining what it means to be an administrative professional today. Leaders from IAAP and IAAP Foundation will share how our organizations are leading the narrative around the value and essential nature of administrative work\, including advocacy efforts that are changing perceptions and innovative programs designed to elevate every admin professional. Most importantly\, this is your chance to ask questions\, share perspectives\, and discover meaningful ways to get involved in this movement. Your voice and passion are exactly what will fuel the next chapter of our profession’s evolution—and this conversation is where it all comes together.
URL:https://iaap-summit.org/event/community-conversation-with-iaap-leaders/
CATEGORIES:General Sessions,Live Streamed to Virtual Audience
ATTACH;FMTTYPE=image/jpeg:https://iaap-summit.org/wp-content/uploads/2025/09/IAAP-Community-Conversations-e1762856400112.webp
END:VEVENT
END:VCALENDAR